BEGIN:VCALENDAR
VERSION:2.0
PRODID:-//The Church of the Good Shepherd - ECPv6.15.20//NONSGML v1.0//EN
CALSCALE:GREGORIAN
METHOD:PUBLISH
X-WR-CALNAME:The Church of the Good Shepherd
X-ORIGINAL-URL:https://cgsonline.org
X-WR-CALDESC:Events for The Church of the Good Shepherd
REFRESH-INTERVAL;VALUE=DURATION:PT1H
X-Robots-Tag:noindex
X-PUBLISHED-TTL:PT1H
BEGIN:VTIMEZONE
TZID:America/New_York
BEGIN:DAYLIGHT
TZOFFSETFROM:-0500
TZOFFSETTO:-0400
TZNAME:EDT
DTSTART:20240310T070000
END:DAYLIGHT
BEGIN:STANDARD
TZOFFSETFROM:-0400
TZOFFSETTO:-0500
TZNAME:EST
DTSTART:20241103T060000
END:STANDARD
BEGIN:DAYLIGHT
TZOFFSETFROM:-0500
TZOFFSETTO:-0400
TZNAME:EDT
DTSTART:20250309T070000
END:DAYLIGHT
BEGIN:STANDARD
TZOFFSETFROM:-0400
TZOFFSETTO:-0500
TZNAME:EST
DTSTART:20251102T060000
END:STANDARD
BEGIN:DAYLIGHT
TZOFFSETFROM:-0500
TZOFFSETTO:-0400
TZNAME:EDT
DTSTART:20260308T070000
END:DAYLIGHT
BEGIN:STANDARD
TZOFFSETFROM:-0400
TZOFFSETTO:-0500
TZNAME:EST
DTSTART:20261101T060000
END:STANDARD
END:VTIMEZONE
BEGIN:VEVENT
DTSTART;TZID=America/New_York:20251005T080000
DTEND;TZID=America/New_York:20251005T093000
DTSTAMP:20260422T225001
CREATED:20250815T185440Z
LAST-MODIFIED:20250815T185440Z
UID:10006246-1759651200-1759656600@cgsonline.org
SUMMARY:SMC Coffee Volunteers Needed
DESCRIPTION:Volunteers are needed one (1) Sunday morning per quarter to oversee coffee prep and clean-up. This is a great way for community groups\, couples\, families\, or roommates to serve the church. \nContact Stephen Windham at sawindham@gmail.com or (919) 225-8104 to coordinate an upcoming Sunday in September\, October\, or November that works well for your schedule.
URL:https://cgsonline.org/event/smc-coffee-volunteers-needed/2025-10-05/
LOCATION:The Commons
END:VEVENT
BEGIN:VEVENT
DTSTART;TZID=America/New_York:20250928T080000
DTEND;TZID=America/New_York:20250928T093000
DTSTAMP:20260422T225001
CREATED:20250815T185440Z
LAST-MODIFIED:20250815T185440Z
UID:10006245-1759046400-1759051800@cgsonline.org
SUMMARY:SMC Coffee Volunteers Needed
DESCRIPTION:Volunteers are needed one (1) Sunday morning per quarter to oversee coffee prep and clean-up. This is a great way for community groups\, couples\, families\, or roommates to serve the church. \nContact Stephen Windham at sawindham@gmail.com or (919) 225-8104 to coordinate an upcoming Sunday in September\, October\, or November that works well for your schedule.
URL:https://cgsonline.org/event/smc-coffee-volunteers-needed/2025-09-28/
LOCATION:The Commons
END:VEVENT
BEGIN:VEVENT
DTSTART;TZID=America/New_York:20250921T080000
DTEND;TZID=America/New_York:20250921T093000
DTSTAMP:20260422T225001
CREATED:20250815T185440Z
LAST-MODIFIED:20250815T185440Z
UID:10006244-1758441600-1758447000@cgsonline.org
SUMMARY:SMC Coffee Volunteers Needed
DESCRIPTION:Volunteers are needed one (1) Sunday morning per quarter to oversee coffee prep and clean-up. This is a great way for community groups\, couples\, families\, or roommates to serve the church. \nContact Stephen Windham at sawindham@gmail.com or (919) 225-8104 to coordinate an upcoming Sunday in September\, October\, or November that works well for your schedule.
URL:https://cgsonline.org/event/smc-coffee-volunteers-needed/2025-09-21/
LOCATION:The Commons
END:VEVENT
BEGIN:VEVENT
DTSTART;TZID=America/New_York:20250914T080000
DTEND;TZID=America/New_York:20250914T093000
DTSTAMP:20260422T225001
CREATED:20250815T185440Z
LAST-MODIFIED:20250815T185440Z
UID:10006243-1757836800-1757842200@cgsonline.org
SUMMARY:SMC Coffee Volunteers Needed
DESCRIPTION:Volunteers are needed one (1) Sunday morning per quarter to oversee coffee prep and clean-up. This is a great way for community groups\, couples\, families\, or roommates to serve the church. \nContact Stephen Windham at sawindham@gmail.com or (919) 225-8104 to coordinate an upcoming Sunday in September\, October\, or November that works well for your schedule.
URL:https://cgsonline.org/event/smc-coffee-volunteers-needed/2025-09-14/
LOCATION:The Commons
END:VEVENT
BEGIN:VEVENT
DTSTART;TZID=America/New_York:20250907T080000
DTEND;TZID=America/New_York:20250907T093000
DTSTAMP:20260422T225001
CREATED:20250815T185440Z
LAST-MODIFIED:20250815T185440Z
UID:10006242-1757232000-1757237400@cgsonline.org
SUMMARY:SMC Coffee Volunteers Needed
DESCRIPTION:Volunteers are needed one (1) Sunday morning per quarter to oversee coffee prep and clean-up. This is a great way for community groups\, couples\, families\, or roommates to serve the church. \nContact Stephen Windham at sawindham@gmail.com or (919) 225-8104 to coordinate an upcoming Sunday in September\, October\, or November that works well for your schedule.
URL:https://cgsonline.org/event/smc-coffee-volunteers-needed/2025-09-07/
LOCATION:The Commons
END:VEVENT
BEGIN:VEVENT
DTSTART;TZID=America/New_York:20250831T080000
DTEND;TZID=America/New_York:20250831T093000
DTSTAMP:20260422T225001
CREATED:20250815T185440Z
LAST-MODIFIED:20250815T185440Z
UID:10006241-1756627200-1756632600@cgsonline.org
SUMMARY:SMC Coffee Volunteers Needed
DESCRIPTION:Volunteers are needed one (1) Sunday morning per quarter to oversee coffee prep and clean-up. This is a great way for community groups\, couples\, families\, or roommates to serve the church. \nContact Stephen Windham at sawindham@gmail.com or (919) 225-8104 to coordinate an upcoming Sunday in September\, October\, or November that works well for your schedule.
URL:https://cgsonline.org/event/smc-coffee-volunteers-needed/2025-08-31/
LOCATION:The Commons
END:VEVENT
BEGIN:VEVENT
DTSTART;TZID=America/New_York:20250824T080000
DTEND;TZID=America/New_York:20250824T093000
DTSTAMP:20260422T225001
CREATED:20250815T185440Z
LAST-MODIFIED:20250815T185440Z
UID:10006240-1756022400-1756027800@cgsonline.org
SUMMARY:SMC Coffee Volunteers Needed
DESCRIPTION:Volunteers are needed one (1) Sunday morning per quarter to oversee coffee prep and clean-up. This is a great way for community groups\, couples\, families\, or roommates to serve the church. \nContact Stephen Windham at sawindham@gmail.com or (919) 225-8104 to coordinate an upcoming Sunday in September\, October\, or November that works well for your schedule.
URL:https://cgsonline.org/event/smc-coffee-volunteers-needed/2025-08-24/
LOCATION:The Commons
END:VEVENT
BEGIN:VEVENT
DTSTART;TZID=America/New_York:20250822T180000
DTEND;TZID=America/New_York:20250822T203000
DTSTAMP:20260422T225001
CREATED:20250815T184945Z
LAST-MODIFIED:20250815T184945Z
UID:10006238-1755885600-1755894600@cgsonline.org
SUMMARY:Community Group Leader Kick-off
DESCRIPTION:As we move into a new academic year\, we’re bringing our community group leaders together (in the Commons) to reconnect and to refresh one another in the gospel.  We’ll spend much of our time doing a group exercise to renew our sense of purpose and to shape our focus for the year.  Finally we’ll conclude by some time praying together\, asking God to work through and beyond our efforts. \nQuestions? Contact Mark Whipple
URL:https://cgsonline.org/event/community-group-leader-kick-off/
LOCATION:The Commons
CATEGORIES:Community Groups
END:VEVENT
BEGIN:VEVENT
DTSTART;TZID=America/New_York:20250817T080000
DTEND;TZID=America/New_York:20250817T093000
DTSTAMP:20260422T225001
CREATED:20250815T185440Z
LAST-MODIFIED:20250815T185440Z
UID:10006239-1755417600-1755423000@cgsonline.org
SUMMARY:SMC Coffee Volunteers Needed
DESCRIPTION:Volunteers are needed one (1) Sunday morning per quarter to oversee coffee prep and clean-up. This is a great way for community groups\, couples\, families\, or roommates to serve the church. \nContact Stephen Windham at sawindham@gmail.com or (919) 225-8104 to coordinate an upcoming Sunday in September\, October\, or November that works well for your schedule.
URL:https://cgsonline.org/event/smc-coffee-volunteers-needed/2025-08-17/
LOCATION:The Commons
END:VEVENT
END:VCALENDAR