BEGIN:VCALENDAR
VERSION:2.0
PRODID:-//The Church of the Good Shepherd - ECPv6.15.20//NONSGML v1.0//EN
CALSCALE:GREGORIAN
METHOD:PUBLISH
X-WR-CALNAME:The Church of the Good Shepherd
X-ORIGINAL-URL:https://cgsonline.org
X-WR-CALDESC:Events for The Church of the Good Shepherd
REFRESH-INTERVAL;VALUE=DURATION:PT1H
X-Robots-Tag:noindex
X-PUBLISHED-TTL:PT1H
BEGIN:VTIMEZONE
TZID:America/New_York
BEGIN:DAYLIGHT
TZOFFSETFROM:-0500
TZOFFSETTO:-0400
TZNAME:EDT
DTSTART:20240310T070000
END:DAYLIGHT
BEGIN:STANDARD
TZOFFSETFROM:-0400
TZOFFSETTO:-0500
TZNAME:EST
DTSTART:20241103T060000
END:STANDARD
BEGIN:DAYLIGHT
TZOFFSETFROM:-0500
TZOFFSETTO:-0400
TZNAME:EDT
DTSTART:20250309T070000
END:DAYLIGHT
BEGIN:STANDARD
TZOFFSETFROM:-0400
TZOFFSETTO:-0500
TZNAME:EST
DTSTART:20251102T060000
END:STANDARD
BEGIN:DAYLIGHT
TZOFFSETFROM:-0500
TZOFFSETTO:-0400
TZNAME:EDT
DTSTART:20260308T070000
END:DAYLIGHT
BEGIN:STANDARD
TZOFFSETFROM:-0400
TZOFFSETTO:-0500
TZNAME:EST
DTSTART:20261101T060000
END:STANDARD
BEGIN:DAYLIGHT
TZOFFSETFROM:-0500
TZOFFSETTO:-0400
TZNAME:EDT
DTSTART:20270314T070000
END:DAYLIGHT
BEGIN:STANDARD
TZOFFSETFROM:-0400
TZOFFSETTO:-0500
TZNAME:EST
DTSTART:20271107T060000
END:STANDARD
END:VTIMEZONE
BEGIN:VEVENT
DTSTART;TZID=America/New_York:20260419T120000
DTEND;TZID=America/New_York:20260419T130000
DTSTAMP:20260422T213702
CREATED:20251219T175743Z
LAST-MODIFIED:20251219T175743Z
UID:10006348-1776600000-1776603600@cgsonline.org
SUMMARY:Souper Sunday Lunch
DESCRIPTION:All are welcome to join us for lunch each week after Sunday’s worship service for a great bowl of soup down in our kitchen! Bring your family\, your friends\, or just yourself and enjoy some time getting to know others in this community. \nFamilies planning to come usually contribute a soup or side to share\, but feel free to just come and join even if you have nothing to bring! We’d love to see you there. \nContact: Mark Whipple
URL:https://cgsonline.org/event/souper-sunday-lunch-39/2026-04-19/
LOCATION:The Commons
CATEGORIES:All
ATTACH;FMTTYPE=image/jpeg:https://cgsonline.org/wp-content/uploads/2025/01/marlon-alves-xwOobtJYqMY-unsplash-scaled.jpg
END:VEVENT
BEGIN:VEVENT
DTSTART;TZID=America/New_York:20260412T120000
DTEND;TZID=America/New_York:20260412T130000
DTSTAMP:20260422T213702
CREATED:20251219T175743Z
LAST-MODIFIED:20251219T175743Z
UID:10006347-1775995200-1775998800@cgsonline.org
SUMMARY:Souper Sunday Lunch
DESCRIPTION:All are welcome to join us for lunch each week after Sunday’s worship service for a great bowl of soup down in our kitchen! Bring your family\, your friends\, or just yourself and enjoy some time getting to know others in this community. \nFamilies planning to come usually contribute a soup or side to share\, but feel free to just come and join even if you have nothing to bring! We’d love to see you there. \nContact: Mark Whipple
URL:https://cgsonline.org/event/souper-sunday-lunch-39/2026-04-12/
LOCATION:The Commons
CATEGORIES:All
ATTACH;FMTTYPE=image/jpeg:https://cgsonline.org/wp-content/uploads/2025/01/marlon-alves-xwOobtJYqMY-unsplash-scaled.jpg
END:VEVENT
BEGIN:VEVENT
DTSTART;TZID=America/New_York:20260411T160000
DTEND;TZID=America/New_York:20260411T190000
DTSTAMP:20260422T213702
CREATED:20260223T211720Z
LAST-MODIFIED:20260324T135731Z
UID:10006879-1775923200-1775934000@cgsonline.org
SUMMARY:Everyday Disciples: Outreach Conference
DESCRIPTION:SAVE THE DATE: Global Outreach Conference | April 11-12Join us on Saturday\, April 11\, from 4:00-7:00 p.m. for a Japanese hibachi dinner and a family-friendly event focused on being “Everyday Disciples” in our neighborhood\, at the park\, in our city\, and wherever God leads us. Dan Iverson is our keynote speaker. \nDinner will be served\, and then the children will be dismissed for a kid-friendly program while youth and adults will enjoy worship\, praise\, and a message from Dan. \nLet us know you’re coming! \nWe’ll wrap up the conference in a joint SMC at 9:30 a.m. on Sunday morning.
URL:https://cgsonline.org/event/everyday-disciples-outreach-conference/
LOCATION:The Commons
CATEGORIES:All
ORGANIZER;CN="Chris Garrett":MAILTO:chrisgarrett@cgsonline.org
END:VEVENT
BEGIN:VEVENT
DTSTART;TZID=America/New_York:20260405T120000
DTEND;TZID=America/New_York:20260405T130000
DTSTAMP:20260422T213702
CREATED:20251219T175743Z
LAST-MODIFIED:20251219T175743Z
UID:10006346-1775390400-1775394000@cgsonline.org
SUMMARY:Souper Sunday Lunch
DESCRIPTION:All are welcome to join us for lunch each week after Sunday’s worship service for a great bowl of soup down in our kitchen! Bring your family\, your friends\, or just yourself and enjoy some time getting to know others in this community. \nFamilies planning to come usually contribute a soup or side to share\, but feel free to just come and join even if you have nothing to bring! We’d love to see you there. \nContact: Mark Whipple
URL:https://cgsonline.org/event/souper-sunday-lunch-39/2026-04-05/
LOCATION:The Commons
CATEGORIES:All
ATTACH;FMTTYPE=image/jpeg:https://cgsonline.org/wp-content/uploads/2025/01/marlon-alves-xwOobtJYqMY-unsplash-scaled.jpg
END:VEVENT
BEGIN:VEVENT
DTSTART;TZID=America/New_York:20260329T120000
DTEND;TZID=America/New_York:20260329T130000
DTSTAMP:20260422T213702
CREATED:20251219T175743Z
LAST-MODIFIED:20251219T175743Z
UID:10006345-1774785600-1774789200@cgsonline.org
SUMMARY:Souper Sunday Lunch
DESCRIPTION:All are welcome to join us for lunch each week after Sunday’s worship service for a great bowl of soup down in our kitchen! Bring your family\, your friends\, or just yourself and enjoy some time getting to know others in this community. \nFamilies planning to come usually contribute a soup or side to share\, but feel free to just come and join even if you have nothing to bring! We’d love to see you there. \nContact: Mark Whipple
URL:https://cgsonline.org/event/souper-sunday-lunch-39/2026-03-29/
LOCATION:The Commons
CATEGORIES:All
ATTACH;FMTTYPE=image/jpeg:https://cgsonline.org/wp-content/uploads/2025/01/marlon-alves-xwOobtJYqMY-unsplash-scaled.jpg
END:VEVENT
BEGIN:VEVENT
DTSTART;TZID=America/New_York:20260322T120000
DTEND;TZID=America/New_York:20260322T130000
DTSTAMP:20260422T213702
CREATED:20251219T175743Z
LAST-MODIFIED:20251219T175743Z
UID:10006344-1774180800-1774184400@cgsonline.org
SUMMARY:Souper Sunday Lunch
DESCRIPTION:All are welcome to join us for lunch each week after Sunday’s worship service for a great bowl of soup down in our kitchen! Bring your family\, your friends\, or just yourself and enjoy some time getting to know others in this community. \nFamilies planning to come usually contribute a soup or side to share\, but feel free to just come and join even if you have nothing to bring! We’d love to see you there. \nContact: Mark Whipple
URL:https://cgsonline.org/event/souper-sunday-lunch-39/2026-03-22/
LOCATION:The Commons
CATEGORIES:All
ATTACH;FMTTYPE=image/jpeg:https://cgsonline.org/wp-content/uploads/2025/01/marlon-alves-xwOobtJYqMY-unsplash-scaled.jpg
END:VEVENT
BEGIN:VEVENT
DTSTART;TZID=America/New_York:20260315T120000
DTEND;TZID=America/New_York:20260315T130000
DTSTAMP:20260422T213702
CREATED:20251219T175743Z
LAST-MODIFIED:20251219T175743Z
UID:10006343-1773576000-1773579600@cgsonline.org
SUMMARY:Souper Sunday Lunch
DESCRIPTION:All are welcome to join us for lunch each week after Sunday’s worship service for a great bowl of soup down in our kitchen! Bring your family\, your friends\, or just yourself and enjoy some time getting to know others in this community. \nFamilies planning to come usually contribute a soup or side to share\, but feel free to just come and join even if you have nothing to bring! We’d love to see you there. \nContact: Mark Whipple
URL:https://cgsonline.org/event/souper-sunday-lunch-39/2026-03-15/
LOCATION:The Commons
CATEGORIES:All
ATTACH;FMTTYPE=image/jpeg:https://cgsonline.org/wp-content/uploads/2025/01/marlon-alves-xwOobtJYqMY-unsplash-scaled.jpg
END:VEVENT
BEGIN:VEVENT
DTSTART;TZID=America/New_York:20260308T120000
DTEND;TZID=America/New_York:20260308T130000
DTSTAMP:20260422T213702
CREATED:20251219T175743Z
LAST-MODIFIED:20251219T175743Z
UID:10006342-1772971200-1772974800@cgsonline.org
SUMMARY:Souper Sunday Lunch
DESCRIPTION:All are welcome to join us for lunch each week after Sunday’s worship service for a great bowl of soup down in our kitchen! Bring your family\, your friends\, or just yourself and enjoy some time getting to know others in this community. \nFamilies planning to come usually contribute a soup or side to share\, but feel free to just come and join even if you have nothing to bring! We’d love to see you there. \nContact: Mark Whipple
URL:https://cgsonline.org/event/souper-sunday-lunch-39/2026-03-08/
LOCATION:The Commons
CATEGORIES:All
ATTACH;FMTTYPE=image/jpeg:https://cgsonline.org/wp-content/uploads/2025/01/marlon-alves-xwOobtJYqMY-unsplash-scaled.jpg
END:VEVENT
BEGIN:VEVENT
DTSTART;TZID=America/New_York:20260301T120000
DTEND;TZID=America/New_York:20260301T130000
DTSTAMP:20260422T213702
CREATED:20251219T175743Z
LAST-MODIFIED:20251219T175743Z
UID:10006341-1772366400-1772370000@cgsonline.org
SUMMARY:Souper Sunday Lunch
DESCRIPTION:All are welcome to join us for lunch each week after Sunday’s worship service for a great bowl of soup down in our kitchen! Bring your family\, your friends\, or just yourself and enjoy some time getting to know others in this community. \nFamilies planning to come usually contribute a soup or side to share\, but feel free to just come and join even if you have nothing to bring! We’d love to see you there. \nContact: Mark Whipple
URL:https://cgsonline.org/event/souper-sunday-lunch-39/2026-03-01/
LOCATION:The Commons
CATEGORIES:All
ATTACH;FMTTYPE=image/jpeg:https://cgsonline.org/wp-content/uploads/2025/01/marlon-alves-xwOobtJYqMY-unsplash-scaled.jpg
END:VEVENT
BEGIN:VEVENT
DTSTART;TZID=America/New_York:20260222T120000
DTEND;TZID=America/New_York:20260222T130000
DTSTAMP:20260422T213702
CREATED:20251219T175743Z
LAST-MODIFIED:20251219T175743Z
UID:10006340-1771761600-1771765200@cgsonline.org
SUMMARY:Souper Sunday Lunch
DESCRIPTION:All are welcome to join us for lunch each week after Sunday’s worship service for a great bowl of soup down in our kitchen! Bring your family\, your friends\, or just yourself and enjoy some time getting to know others in this community. \nFamilies planning to come usually contribute a soup or side to share\, but feel free to just come and join even if you have nothing to bring! We’d love to see you there. \nContact: Mark Whipple
URL:https://cgsonline.org/event/souper-sunday-lunch-39/2026-02-22/
LOCATION:The Commons
CATEGORIES:All
ATTACH;FMTTYPE=image/jpeg:https://cgsonline.org/wp-content/uploads/2025/01/marlon-alves-xwOobtJYqMY-unsplash-scaled.jpg
END:VEVENT
BEGIN:VEVENT
DTSTART;TZID=America/New_York:20260215T120000
DTEND;TZID=America/New_York:20260215T130000
DTSTAMP:20260422T213702
CREATED:20251219T175743Z
LAST-MODIFIED:20251219T175743Z
UID:10006339-1771156800-1771160400@cgsonline.org
SUMMARY:Souper Sunday Lunch
DESCRIPTION:All are welcome to join us for lunch each week after Sunday’s worship service for a great bowl of soup down in our kitchen! Bring your family\, your friends\, or just yourself and enjoy some time getting to know others in this community. \nFamilies planning to come usually contribute a soup or side to share\, but feel free to just come and join even if you have nothing to bring! We’d love to see you there. \nContact: Mark Whipple
URL:https://cgsonline.org/event/souper-sunday-lunch-39/2026-02-15/
LOCATION:The Commons
CATEGORIES:All
ATTACH;FMTTYPE=image/jpeg:https://cgsonline.org/wp-content/uploads/2025/01/marlon-alves-xwOobtJYqMY-unsplash-scaled.jpg
END:VEVENT
BEGIN:VEVENT
DTSTART;TZID=America/New_York:20260208T120000
DTEND;TZID=America/New_York:20260208T130000
DTSTAMP:20260422T213702
CREATED:20251219T175743Z
LAST-MODIFIED:20251219T175743Z
UID:10006338-1770552000-1770555600@cgsonline.org
SUMMARY:Souper Sunday Lunch
DESCRIPTION:All are welcome to join us for lunch each week after Sunday’s worship service for a great bowl of soup down in our kitchen! Bring your family\, your friends\, or just yourself and enjoy some time getting to know others in this community. \nFamilies planning to come usually contribute a soup or side to share\, but feel free to just come and join even if you have nothing to bring! We’d love to see you there. \nContact: Mark Whipple
URL:https://cgsonline.org/event/souper-sunday-lunch-39/2026-02-08/
LOCATION:The Commons
CATEGORIES:All
ATTACH;FMTTYPE=image/jpeg:https://cgsonline.org/wp-content/uploads/2025/01/marlon-alves-xwOobtJYqMY-unsplash-scaled.jpg
END:VEVENT
BEGIN:VEVENT
DTSTART;TZID=America/New_York:20260201T120000
DTEND;TZID=America/New_York:20260201T130000
DTSTAMP:20260422T213702
CREATED:20251219T175743Z
LAST-MODIFIED:20251219T175743Z
UID:10006337-1769947200-1769950800@cgsonline.org
SUMMARY:Souper Sunday Lunch
DESCRIPTION:All are welcome to join us for lunch each week after Sunday’s worship service for a great bowl of soup down in our kitchen! Bring your family\, your friends\, or just yourself and enjoy some time getting to know others in this community. \nFamilies planning to come usually contribute a soup or side to share\, but feel free to just come and join even if you have nothing to bring! We’d love to see you there. \nContact: Mark Whipple
URL:https://cgsonline.org/event/souper-sunday-lunch-39/2026-02-01/
LOCATION:The Commons
CATEGORIES:All
ATTACH;FMTTYPE=image/jpeg:https://cgsonline.org/wp-content/uploads/2025/01/marlon-alves-xwOobtJYqMY-unsplash-scaled.jpg
END:VEVENT
BEGIN:VEVENT
DTSTART;TZID=America/New_York:20260125T120000
DTEND;TZID=America/New_York:20260125T130000
DTSTAMP:20260422T213702
CREATED:20251219T175743Z
LAST-MODIFIED:20251219T175743Z
UID:10006336-1769342400-1769346000@cgsonline.org
SUMMARY:Souper Sunday Lunch
DESCRIPTION:All are welcome to join us for lunch each week after Sunday’s worship service for a great bowl of soup down in our kitchen! Bring your family\, your friends\, or just yourself and enjoy some time getting to know others in this community. \nFamilies planning to come usually contribute a soup or side to share\, but feel free to just come and join even if you have nothing to bring! We’d love to see you there. \nContact: Mark Whipple
URL:https://cgsonline.org/event/souper-sunday-lunch-39/2026-01-25/
LOCATION:The Commons
CATEGORIES:All
ATTACH;FMTTYPE=image/jpeg:https://cgsonline.org/wp-content/uploads/2025/01/marlon-alves-xwOobtJYqMY-unsplash-scaled.jpg
END:VEVENT
BEGIN:VEVENT
DTSTART;TZID=America/New_York:20260118T120000
DTEND;TZID=America/New_York:20260118T130000
DTSTAMP:20260422T213702
CREATED:20251219T175743Z
LAST-MODIFIED:20251219T175743Z
UID:10006335-1768737600-1768741200@cgsonline.org
SUMMARY:Souper Sunday Lunch
DESCRIPTION:All are welcome to join us for lunch each week after Sunday’s worship service for a great bowl of soup down in our kitchen! Bring your family\, your friends\, or just yourself and enjoy some time getting to know others in this community. \nFamilies planning to come usually contribute a soup or side to share\, but feel free to just come and join even if you have nothing to bring! We’d love to see you there. \nContact: Mark Whipple
URL:https://cgsonline.org/event/souper-sunday-lunch-39/2026-01-18/
LOCATION:The Commons
CATEGORIES:All
ATTACH;FMTTYPE=image/jpeg:https://cgsonline.org/wp-content/uploads/2025/01/marlon-alves-xwOobtJYqMY-unsplash-scaled.jpg
END:VEVENT
BEGIN:VEVENT
DTSTART;TZID=America/New_York:20260111T120000
DTEND;TZID=America/New_York:20260111T130000
DTSTAMP:20260422T213702
CREATED:20251219T175743Z
LAST-MODIFIED:20251219T175743Z
UID:10006334-1768132800-1768136400@cgsonline.org
SUMMARY:Souper Sunday Lunch
DESCRIPTION:All are welcome to join us for lunch each week after Sunday’s worship service for a great bowl of soup down in our kitchen! Bring your family\, your friends\, or just yourself and enjoy some time getting to know others in this community. \nFamilies planning to come usually contribute a soup or side to share\, but feel free to just come and join even if you have nothing to bring! We’d love to see you there. \nContact: Mark Whipple
URL:https://cgsonline.org/event/souper-sunday-lunch-39/2026-01-11/
LOCATION:The Commons
CATEGORIES:All
ATTACH;FMTTYPE=image/jpeg:https://cgsonline.org/wp-content/uploads/2025/01/marlon-alves-xwOobtJYqMY-unsplash-scaled.jpg
END:VEVENT
BEGIN:VEVENT
DTSTART;TZID=America/New_York:20260104T120000
DTEND;TZID=America/New_York:20260104T130000
DTSTAMP:20260422T213702
CREATED:20251219T175743Z
LAST-MODIFIED:20251219T175743Z
UID:10006333-1767528000-1767531600@cgsonline.org
SUMMARY:Souper Sunday Lunch
DESCRIPTION:All are welcome to join us for lunch each week after Sunday’s worship service for a great bowl of soup down in our kitchen! Bring your family\, your friends\, or just yourself and enjoy some time getting to know others in this community. \nFamilies planning to come usually contribute a soup or side to share\, but feel free to just come and join even if you have nothing to bring! We’d love to see you there. \nContact: Mark Whipple
URL:https://cgsonline.org/event/souper-sunday-lunch-39/2026-01-04/
LOCATION:The Commons
CATEGORIES:All
ATTACH;FMTTYPE=image/jpeg:https://cgsonline.org/wp-content/uploads/2025/01/marlon-alves-xwOobtJYqMY-unsplash-scaled.jpg
END:VEVENT
BEGIN:VEVENT
DTSTART;TZID=America/New_York:20251022T080000
DTEND;TZID=America/New_York:20251022T170000
DTSTAMP:20260422T213702
CREATED:20251022T121945Z
LAST-MODIFIED:20251022T121945Z
UID:10006311-1761120000-1761152400@cgsonline.org
SUMMARY:SMC Coffee Volunteers Needed
DESCRIPTION:Volunteers are needed one (1) Sunday morning per quarter to oversee coffee prep and clean-up. This is a great way for community groups\, couples\, families\, or roommates to serve the church. \nContact Stephen Windham at sawindham@gmail.com or (919) 225-8104 to coordinate an upcoming Sunday in September\, October\, or November that works well for your schedule.
URL:https://cgsonline.org/event/smc-coffee-volunteers-needed-2/2025-10-22/
LOCATION:The Commons
END:VEVENT
BEGIN:VEVENT
DTSTART;TZID=America/New_York:20251019T080000
DTEND;TZID=America/New_York:20251019T093000
DTSTAMP:20260422T213702
CREATED:20250815T185440Z
LAST-MODIFIED:20250815T185440Z
UID:10006248-1760860800-1760866200@cgsonline.org
SUMMARY:SMC Coffee Volunteers Needed
DESCRIPTION:Volunteers are needed one (1) Sunday morning per quarter to oversee coffee prep and clean-up. This is a great way for community groups\, couples\, families\, or roommates to serve the church. \nContact Stephen Windham at sawindham@gmail.com or (919) 225-8104 to coordinate an upcoming Sunday in September\, October\, or November that works well for your schedule.
URL:https://cgsonline.org/event/smc-coffee-volunteers-needed/2025-10-19/
LOCATION:The Commons
END:VEVENT
BEGIN:VEVENT
DTSTART;TZID=America/New_York:20251012T080000
DTEND;TZID=America/New_York:20251012T093000
DTSTAMP:20260422T213702
CREATED:20250815T185440Z
LAST-MODIFIED:20250815T185440Z
UID:10006247-1760256000-1760261400@cgsonline.org
SUMMARY:SMC Coffee Volunteers Needed
DESCRIPTION:Volunteers are needed one (1) Sunday morning per quarter to oversee coffee prep and clean-up. This is a great way for community groups\, couples\, families\, or roommates to serve the church. \nContact Stephen Windham at sawindham@gmail.com or (919) 225-8104 to coordinate an upcoming Sunday in September\, October\, or November that works well for your schedule.
URL:https://cgsonline.org/event/smc-coffee-volunteers-needed/2025-10-12/
LOCATION:The Commons
END:VEVENT
BEGIN:VEVENT
DTSTART;TZID=America/New_York:20251005T080000
DTEND;TZID=America/New_York:20251005T093000
DTSTAMP:20260422T213702
CREATED:20250815T185440Z
LAST-MODIFIED:20250815T185440Z
UID:10006246-1759651200-1759656600@cgsonline.org
SUMMARY:SMC Coffee Volunteers Needed
DESCRIPTION:Volunteers are needed one (1) Sunday morning per quarter to oversee coffee prep and clean-up. This is a great way for community groups\, couples\, families\, or roommates to serve the church. \nContact Stephen Windham at sawindham@gmail.com or (919) 225-8104 to coordinate an upcoming Sunday in September\, October\, or November that works well for your schedule.
URL:https://cgsonline.org/event/smc-coffee-volunteers-needed/2025-10-05/
LOCATION:The Commons
END:VEVENT
BEGIN:VEVENT
DTSTART;TZID=America/New_York:20250928T080000
DTEND;TZID=America/New_York:20250928T093000
DTSTAMP:20260422T213702
CREATED:20250815T185440Z
LAST-MODIFIED:20250815T185440Z
UID:10006245-1759046400-1759051800@cgsonline.org
SUMMARY:SMC Coffee Volunteers Needed
DESCRIPTION:Volunteers are needed one (1) Sunday morning per quarter to oversee coffee prep and clean-up. This is a great way for community groups\, couples\, families\, or roommates to serve the church. \nContact Stephen Windham at sawindham@gmail.com or (919) 225-8104 to coordinate an upcoming Sunday in September\, October\, or November that works well for your schedule.
URL:https://cgsonline.org/event/smc-coffee-volunteers-needed/2025-09-28/
LOCATION:The Commons
END:VEVENT
BEGIN:VEVENT
DTSTART;TZID=America/New_York:20250921T080000
DTEND;TZID=America/New_York:20250921T093000
DTSTAMP:20260422T213702
CREATED:20250815T185440Z
LAST-MODIFIED:20250815T185440Z
UID:10006244-1758441600-1758447000@cgsonline.org
SUMMARY:SMC Coffee Volunteers Needed
DESCRIPTION:Volunteers are needed one (1) Sunday morning per quarter to oversee coffee prep and clean-up. This is a great way for community groups\, couples\, families\, or roommates to serve the church. \nContact Stephen Windham at sawindham@gmail.com or (919) 225-8104 to coordinate an upcoming Sunday in September\, October\, or November that works well for your schedule.
URL:https://cgsonline.org/event/smc-coffee-volunteers-needed/2025-09-21/
LOCATION:The Commons
END:VEVENT
BEGIN:VEVENT
DTSTART;TZID=America/New_York:20250914T080000
DTEND;TZID=America/New_York:20250914T093000
DTSTAMP:20260422T213702
CREATED:20250815T185440Z
LAST-MODIFIED:20250815T185440Z
UID:10006243-1757836800-1757842200@cgsonline.org
SUMMARY:SMC Coffee Volunteers Needed
DESCRIPTION:Volunteers are needed one (1) Sunday morning per quarter to oversee coffee prep and clean-up. This is a great way for community groups\, couples\, families\, or roommates to serve the church. \nContact Stephen Windham at sawindham@gmail.com or (919) 225-8104 to coordinate an upcoming Sunday in September\, October\, or November that works well for your schedule.
URL:https://cgsonline.org/event/smc-coffee-volunteers-needed/2025-09-14/
LOCATION:The Commons
END:VEVENT
BEGIN:VEVENT
DTSTART;TZID=America/New_York:20250907T080000
DTEND;TZID=America/New_York:20250907T093000
DTSTAMP:20260422T213702
CREATED:20250815T185440Z
LAST-MODIFIED:20250815T185440Z
UID:10006242-1757232000-1757237400@cgsonline.org
SUMMARY:SMC Coffee Volunteers Needed
DESCRIPTION:Volunteers are needed one (1) Sunday morning per quarter to oversee coffee prep and clean-up. This is a great way for community groups\, couples\, families\, or roommates to serve the church. \nContact Stephen Windham at sawindham@gmail.com or (919) 225-8104 to coordinate an upcoming Sunday in September\, October\, or November that works well for your schedule.
URL:https://cgsonline.org/event/smc-coffee-volunteers-needed/2025-09-07/
LOCATION:The Commons
END:VEVENT
BEGIN:VEVENT
DTSTART;TZID=America/New_York:20250831T080000
DTEND;TZID=America/New_York:20250831T093000
DTSTAMP:20260422T213702
CREATED:20250815T185440Z
LAST-MODIFIED:20250815T185440Z
UID:10006241-1756627200-1756632600@cgsonline.org
SUMMARY:SMC Coffee Volunteers Needed
DESCRIPTION:Volunteers are needed one (1) Sunday morning per quarter to oversee coffee prep and clean-up. This is a great way for community groups\, couples\, families\, or roommates to serve the church. \nContact Stephen Windham at sawindham@gmail.com or (919) 225-8104 to coordinate an upcoming Sunday in September\, October\, or November that works well for your schedule.
URL:https://cgsonline.org/event/smc-coffee-volunteers-needed/2025-08-31/
LOCATION:The Commons
END:VEVENT
BEGIN:VEVENT
DTSTART;TZID=America/New_York:20250824T080000
DTEND;TZID=America/New_York:20250824T093000
DTSTAMP:20260422T213702
CREATED:20250815T185440Z
LAST-MODIFIED:20250815T185440Z
UID:10006240-1756022400-1756027800@cgsonline.org
SUMMARY:SMC Coffee Volunteers Needed
DESCRIPTION:Volunteers are needed one (1) Sunday morning per quarter to oversee coffee prep and clean-up. This is a great way for community groups\, couples\, families\, or roommates to serve the church. \nContact Stephen Windham at sawindham@gmail.com or (919) 225-8104 to coordinate an upcoming Sunday in September\, October\, or November that works well for your schedule.
URL:https://cgsonline.org/event/smc-coffee-volunteers-needed/2025-08-24/
LOCATION:The Commons
END:VEVENT
BEGIN:VEVENT
DTSTART;TZID=America/New_York:20250822T180000
DTEND;TZID=America/New_York:20250822T203000
DTSTAMP:20260422T213702
CREATED:20250815T184945Z
LAST-MODIFIED:20250815T184945Z
UID:10006238-1755885600-1755894600@cgsonline.org
SUMMARY:Community Group Leader Kick-off
DESCRIPTION:As we move into a new academic year\, we’re bringing our community group leaders together (in the Commons) to reconnect and to refresh one another in the gospel.  We’ll spend much of our time doing a group exercise to renew our sense of purpose and to shape our focus for the year.  Finally we’ll conclude by some time praying together\, asking God to work through and beyond our efforts. \nQuestions? Contact Mark Whipple
URL:https://cgsonline.org/event/community-group-leader-kick-off/
LOCATION:The Commons
CATEGORIES:Community Groups
END:VEVENT
BEGIN:VEVENT
DTSTART;TZID=America/New_York:20250817T080000
DTEND;TZID=America/New_York:20250817T093000
DTSTAMP:20260422T213702
CREATED:20250815T185440Z
LAST-MODIFIED:20250815T185440Z
UID:10006239-1755417600-1755423000@cgsonline.org
SUMMARY:SMC Coffee Volunteers Needed
DESCRIPTION:Volunteers are needed one (1) Sunday morning per quarter to oversee coffee prep and clean-up. This is a great way for community groups\, couples\, families\, or roommates to serve the church. \nContact Stephen Windham at sawindham@gmail.com or (919) 225-8104 to coordinate an upcoming Sunday in September\, October\, or November that works well for your schedule.
URL:https://cgsonline.org/event/smc-coffee-volunteers-needed/2025-08-17/
LOCATION:The Commons
END:VEVENT
END:VCALENDAR