BEGIN:VCALENDAR
VERSION:2.0
PRODID:-//The Church of the Good Shepherd - ECPv6.15.20//NONSGML v1.0//EN
CALSCALE:GREGORIAN
METHOD:PUBLISH
X-ORIGINAL-URL:https://cgsonline.org
X-WR-CALDESC:Events for The Church of the Good Shepherd
REFRESH-INTERVAL;VALUE=DURATION:PT1H
X-Robots-Tag:noindex
X-PUBLISHED-TTL:PT1H
BEGIN:VTIMEZONE
TZID:America/New_York
BEGIN:DAYLIGHT
TZOFFSETFROM:-0500
TZOFFSETTO:-0400
TZNAME:EDT
DTSTART:20230312T070000
END:DAYLIGHT
BEGIN:STANDARD
TZOFFSETFROM:-0400
TZOFFSETTO:-0500
TZNAME:EST
DTSTART:20231105T060000
END:STANDARD
BEGIN:DAYLIGHT
TZOFFSETFROM:-0500
TZOFFSETTO:-0400
TZNAME:EDT
DTSTART:20240310T070000
END:DAYLIGHT
BEGIN:STANDARD
TZOFFSETFROM:-0400
TZOFFSETTO:-0500
TZNAME:EST
DTSTART:20241103T060000
END:STANDARD
BEGIN:DAYLIGHT
TZOFFSETFROM:-0500
TZOFFSETTO:-0400
TZNAME:EDT
DTSTART:20250309T070000
END:DAYLIGHT
BEGIN:STANDARD
TZOFFSETFROM:-0400
TZOFFSETTO:-0500
TZNAME:EST
DTSTART:20251102T060000
END:STANDARD
END:VTIMEZONE
BEGIN:VEVENT
DTSTART;TZID=America/New_York:20241026T163000
DTEND;TZID=America/New_York:20241026T183000
DTSTAMP:20260421T072944
CREATED:20241004T131856Z
LAST-MODIFIED:20241004T164955Z
UID:10005257-1729960200-1729967400@cgsonline.org
SUMMARY:Great Out West Fall Fest
DESCRIPTION:Our 4th Annual Great Out West Fall Fest is October 26 from 4:30-6:30pm in the CGS back parking lot. Put on your boots and cowboy hats\, bring a friend\, and join us for chili\, hay rides\, prizes\, games\, & more! Please RSVP and sign up to bring something or volunteer!
URL:https://cgsonline.org/event/great-out-west-fall-fest-3/
LOCATION:Church of the Good Shepherd
CATEGORIES:Children,Men,Women,Young Adult
ATTACH;FMTTYPE=image/jpeg:https://cgsonline.org/wp-content/uploads/2024/10/rene-porter-P7cKOCQmilY-unsplash-scaled.jpg
ORGANIZER;CN="Bethany Porter":MAILTO:bethanyporter@cgsonline.org
END:VEVENT
END:VCALENDAR